BEGIN:VCALENDAR
VERSION:2.0
PRODID:-//Raleigh - ECPv6.15.16.1//NONSGML v1.0//EN
CALSCALE:GREGORIAN
METHOD:PUBLISH
X-ORIGINAL-URL:https://raleigh.staging.adventurelanding.wddventure.com
X-WR-CALDESC:Events for Raleigh
REFRESH-INTERVAL;VALUE=DURATION:PT1H
X-Robots-Tag:noindex
X-PUBLISHED-TTL:PT1H
BEGIN:VTIMEZONE
TZID:America/New_York
BEGIN:DAYLIGHT
TZOFFSETFROM:-0500
TZOFFSETTO:-0400
TZNAME:EDT
DTSTART:20190310T070000
END:DAYLIGHT
BEGIN:STANDARD
TZOFFSETFROM:-0400
TZOFFSETTO:-0500
TZNAME:EST
DTSTART:20191103T060000
END:STANDARD
BEGIN:DAYLIGHT
TZOFFSETFROM:-0500
TZOFFSETTO:-0400
TZNAME:EDT
DTSTART:20200308T070000
END:DAYLIGHT
BEGIN:STANDARD
TZOFFSETFROM:-0400
TZOFFSETTO:-0500
TZNAME:EST
DTSTART:20201101T060000
END:STANDARD
BEGIN:DAYLIGHT
TZOFFSETFROM:-0500
TZOFFSETTO:-0400
TZNAME:EDT
DTSTART:20210314T070000
END:DAYLIGHT
BEGIN:STANDARD
TZOFFSETFROM:-0400
TZOFFSETTO:-0500
TZNAME:EST
DTSTART:20211107T060000
END:STANDARD
BEGIN:DAYLIGHT
TZOFFSETFROM:-0500
TZOFFSETTO:-0400
TZNAME:EDT
DTSTART:20220313T070000
END:DAYLIGHT
BEGIN:STANDARD
TZOFFSETFROM:-0400
TZOFFSETTO:-0500
TZNAME:EST
DTSTART:20221106T060000
END:STANDARD
BEGIN:DAYLIGHT
TZOFFSETFROM:-0500
TZOFFSETTO:-0400
TZNAME:EDT
DTSTART:20230312T070000
END:DAYLIGHT
BEGIN:STANDARD
TZOFFSETFROM:-0400
TZOFFSETTO:-0500
TZNAME:EST
DTSTART:20231105T060000
END:STANDARD
BEGIN:DAYLIGHT
TZOFFSETFROM:-0500
TZOFFSETTO:-0400
TZNAME:EDT
DTSTART:20240310T070000
END:DAYLIGHT
BEGIN:STANDARD
TZOFFSETFROM:-0400
TZOFFSETTO:-0500
TZNAME:EST
DTSTART:20241103T060000
END:STANDARD
BEGIN:DAYLIGHT
TZOFFSETFROM:-0500
TZOFFSETTO:-0400
TZNAME:EDT
DTSTART:20250309T070000
END:DAYLIGHT
BEGIN:STANDARD
TZOFFSETFROM:-0400
TZOFFSETTO:-0500
TZNAME:EST
DTSTART:20251102T060000
END:STANDARD
END:VTIMEZONE
BEGIN:VEVENT
DTSTART;TZID=America/New_York:20241018T000000
DTEND;TZID=America/New_York:20241019T060000
DTSTAMP:20260423T165158
CREATED:20170816T174423Z
LAST-MODIFIED:20240903T143954Z
UID:2885-1729209600-1729317600@raleigh.staging.adventurelanding.wddventure.com
SUMMARY:Fall Fellowship Lock-In
DESCRIPTION:Come join us at our Fall Fellowship Lock-in! \nExclusively for Youth Fellowship Groups!\nFor Groups of 10 or More. \nThe lock-in runs from Midnight – 6am.\nEach guest receives: \n\nUnlimited Miniature Golf\nUnlimited Go-Karts Rides\nUnlimited Laser Tag\nUnlimited Non-Redemption Video Games\nOne Slice of Pizza\nOne Soda\n\nONLY $25.99 Per Person Plus Tax! \nEmail watkinson@staging.adventurelanding.wddventure.com to book today!
URL:https://raleigh.staging.adventurelanding.wddventure.com/event/fall-fellowship-lock/
LOCATION:Adventure Landing\, 3311 Capital Blvd.\, Raleigh\, NC\, 27604\, United States
CATEGORIES:Special Event
ATTACH;FMTTYPE=image/jpeg:https://wp-cdn-adventurelanding.s3.amazonaws.com/stage/uploads/sites/3/2017/08/Featured-Image-Fall-Lockin.jpg
GEO:35.825261;-78.587853
X-APPLE-STRUCTURED-LOCATION;VALUE=URI;X-ADDRESS=Adventure Landing 3311 Capital Blvd. Raleigh NC 27604 United States;X-APPLE-RADIUS=500;X-TITLE=3311 Capital Blvd.:geo:-78.587853,35.825261
END:VEVENT
BEGIN:VEVENT
DTSTART;VALUE=DATE:20241010
DTEND;VALUE=DATE:20241015
DTSTAMP:20260423T165158
CREATED:20241007T133849Z
LAST-MODIFIED:20241007T134108Z
UID:9792-1728518400-1728950399@raleigh.staging.adventurelanding.wddventure.com
SUMMARY:Fall Break Special
DESCRIPTION:3-Hour Unlimited WristbandEnjoy 3 Hours of Unlimited: \n\nMini Golf\nGo-Karts\nLaser Tag\n\nOnly $34.99!
URL:https://raleigh.staging.adventurelanding.wddventure.com/event/fall-break-special/
CATEGORIES:Special Event
ATTACH;FMTTYPE=image/jpeg:https://wp-cdn-adventurelanding.s3.amazonaws.com/stage/uploads/sites/3/2024/10/Fall-Break-Specials.jpg
END:VEVENT
BEGIN:VEVENT
DTSTART;VALUE=DATE:20240912
DTEND;VALUE=DATE:20240913
DTSTAMP:20260423T165158
CREATED:20190904T172135Z
LAST-MODIFIED:20240911T155731Z
UID:6669-1726099200-1726185599@raleigh.staging.adventurelanding.wddventure.com
SUMMARY:National Video Game Day Sale
DESCRIPTION:Save $25!Online Only Sale! \nBuy a $25 Game Card\, Get a $25 Game Card for FREE! \nGame cards never expire and can be used by multiple guests on multiple visits! \nBuy Online
URL:https://raleigh.staging.adventurelanding.wddventure.com/event/national-video-game-day-sale/
LOCATION:Adventure Landing\, 3311 Capital Blvd.\, Raleigh\, NC\, 27604\, United States
CATEGORIES:Special Event
ATTACH;FMTTYPE=image/jpeg:https://wp-cdn-adventurelanding.s3.amazonaws.com/stage/uploads/sites/3/2019/09/Featured-Image-National-Video-Game-Day.jpg
GEO:35.825261;-78.587853
X-APPLE-STRUCTURED-LOCATION;VALUE=URI;X-ADDRESS=Adventure Landing 3311 Capital Blvd. Raleigh NC 27604 United States;X-APPLE-RADIUS=500;X-TITLE=3311 Capital Blvd.:geo:-78.587853,35.825261
END:VEVENT
BEGIN:VEVENT
DTSTART;VALUE=DATE:20240830
DTEND;VALUE=DATE:20240903
DTSTAMP:20260423T165158
CREATED:20230817T151522Z
LAST-MODIFIED:20240822T130231Z
UID:9563-1724976000-1725321599@raleigh.staging.adventurelanding.wddventure.com
SUMMARY:Labor Day Weekend Special
DESCRIPTION:3-Hour Unlimited Wristband!Enjoy 3 Hours of Unlimited: \n\nMini Golf\nGo-Karts\nLaser Tag\n\nOnly $34.99 per person!
URL:https://raleigh.staging.adventurelanding.wddventure.com/event/labor-day-weekend-special/
CATEGORIES:Special Event
ATTACH;FMTTYPE=image/jpeg:https://wp-cdn-adventurelanding.s3.amazonaws.com/stage/uploads/sites/3/2023/08/Featured-Image-Labor-Day.jpg
END:VEVENT
BEGIN:VEVENT
DTSTART;VALUE=DATE:20240803
DTEND;VALUE=DATE:20240805
DTSTAMP:20260423T165158
CREATED:20180523T191147Z
LAST-MODIFIED:20240722T163053Z
UID:4446-1722643200-1722815999@raleigh.staging.adventurelanding.wddventure.com
SUMMARY:Teacher Appreciation Weekend
DESCRIPTION:We Appreciate Educators!Teachers receive a FREE Game of Mini Golf! \nAll teachers must show valid school ID to receive free offer.
URL:https://raleigh.staging.adventurelanding.wddventure.com/event/teacher-appreciation-weekend/
LOCATION:Adventure Landing\, 3311 Capital Blvd.\, Raleigh\, NC\, 27604\, United States
CATEGORIES:Special Event
ATTACH;FMTTYPE=image/jpeg:https://wp-cdn-adventurelanding.s3.amazonaws.com/stage/uploads/sites/3/2018/05/Featured-Image-Teacher-Appreciation.jpg
GEO:35.825261;-78.587853
X-APPLE-STRUCTURED-LOCATION;VALUE=URI;X-ADDRESS=Adventure Landing 3311 Capital Blvd. Raleigh NC 27604 United States;X-APPLE-RADIUS=500;X-TITLE=3311 Capital Blvd.:geo:-78.587853,35.825261
END:VEVENT
BEGIN:VEVENT
DTSTART;VALUE=DATE:20240704
DTEND;VALUE=DATE:20240708
DTSTAMP:20260423T165158
CREATED:20230626T134129Z
LAST-MODIFIED:20240619T162829Z
UID:9554-1720051200-1720396799@raleigh.staging.adventurelanding.wddventure.com
SUMMARY:July 4th Weekend Special
DESCRIPTION:July 4th Weekend SpecialJuly 4th – 7th \n3-Hour Unlimited Wristband: \n\nMini Golf\nGo-Karts\nLaser Tag\n\nOnly $34.99 per person!
URL:https://raleigh.staging.adventurelanding.wddventure.com/event/july-4th-weekend-special/
CATEGORIES:Special Event
ATTACH;FMTTYPE=image/jpeg:https://wp-cdn-adventurelanding.s3.amazonaws.com/stage/uploads/sites/3/2023/06/Featured-Image-July-4th-Weekend.jpg
END:VEVENT
BEGIN:VEVENT
DTSTART;VALUE=DATE:20240704
DTEND;VALUE=DATE:20240708
DTSTAMP:20260423T165158
CREATED:20180618T170820Z
LAST-MODIFIED:20240617T153424Z
UID:4571-1720051200-1720396799@raleigh.staging.adventurelanding.wddventure.com
SUMMARY:Military Appreciation Weekend
DESCRIPTION:We Thank You For Your Service!Veterans\, Active and Retired Military Receive a FREE Game of Mini Golf! \nAll military must show their valid ID to receive this Free offer.
URL:https://raleigh.staging.adventurelanding.wddventure.com/event/military-appreciation-weekend/
LOCATION:Adventure Landing\, 3311 Capital Blvd.\, Raleigh\, NC\, 27604\, United States
CATEGORIES:Special Event
ATTACH;FMTTYPE=image/jpeg:https://wp-cdn-adventurelanding.s3.amazonaws.com/stage/uploads/sites/3/2023/06/Featured-Image-Military-Appreciation-Weekend.jpg
GEO:35.825261;-78.587853
X-APPLE-STRUCTURED-LOCATION;VALUE=URI;X-ADDRESS=Adventure Landing 3311 Capital Blvd. Raleigh NC 27604 United States;X-APPLE-RADIUS=500;X-TITLE=3311 Capital Blvd.:geo:-78.587853,35.825261
END:VEVENT
BEGIN:VEVENT
DTSTART;VALUE=DATE:20240704
DTEND;VALUE=DATE:20240705
DTSTAMP:20260423T165158
CREATED:20170628T171258Z
LAST-MODIFIED:20240704T115414Z
UID:2418-1720051200-1720137599@raleigh.staging.adventurelanding.wddventure.com
SUMMARY:July 4th Game Card Blowout
DESCRIPTION:July 4th Game Card Blowout!Online Only Sale – July 4th. \nBuy a $25 Game Card\, Get a $25 Game Card for FREE! \nGame Cards are good anytime.  Cards can be used by multiple guests on multiple visits and never expire! \nBuy Online
URL:https://raleigh.staging.adventurelanding.wddventure.com/event/july-4th-game-card-blowout/
LOCATION:Adventure Landing\, 3311 Capital Blvd.\, Raleigh\, NC\, 27604\, United States
CATEGORIES:Special Event
ATTACH;FMTTYPE=image/jpeg:https://wp-cdn-adventurelanding.s3.amazonaws.com/stage/uploads/sites/3/2023/06/Featured-Image-July-4th-Specials-MAS.jpg
GEO:35.825261;-78.587853
X-APPLE-STRUCTURED-LOCATION;VALUE=URI;X-ADDRESS=Adventure Landing 3311 Capital Blvd. Raleigh NC 27604 United States;X-APPLE-RADIUS=500;X-TITLE=3311 Capital Blvd.:geo:-78.587853,35.825261
END:VEVENT
BEGIN:VEVENT
DTSTART;VALUE=DATE:20240616
DTEND;VALUE=DATE:20240617
DTSTAMP:20260423T165158
CREATED:20180521T170838Z
LAST-MODIFIED:20240517T142329Z
UID:4439-1718496000-1718582399@raleigh.staging.adventurelanding.wddventure.com
SUMMARY:Father's Day Special
DESCRIPTION:Dads Play Free!Dads Play Free Mini Golf with each paying player at regular price! \nGive the gift of fun!
URL:https://raleigh.staging.adventurelanding.wddventure.com/event/fathers-day-special/
LOCATION:Adventure Landing\, 3311 Capital Blvd.\, Raleigh\, NC\, 27604\, United States
CATEGORIES:Special Event
ATTACH;FMTTYPE=image/jpeg:https://wp-cdn-adventurelanding.s3.amazonaws.com/stage/uploads/sites/3/2018/05/Featured-Image-Fathers-Day.jpg
GEO:35.825261;-78.587853
X-APPLE-STRUCTURED-LOCATION;VALUE=URI;X-ADDRESS=Adventure Landing 3311 Capital Blvd. Raleigh NC 27604 United States;X-APPLE-RADIUS=500;X-TITLE=3311 Capital Blvd.:geo:-78.587853,35.825261
END:VEVENT
BEGIN:VEVENT
DTSTART;TZID=America/New_York:20240607T180000
DTEND;TZID=America/New_York:20240607T220000
DTSTAMP:20260423T165158
CREATED:20240118T181752Z
LAST-MODIFIED:20240118T181752Z
UID:9693-1717783200-1717797600@raleigh.staging.adventurelanding.wddventure.com
SUMMARY:Friday Family Night
DESCRIPTION:Friday Family Night!Every Friday from 6pm – Close \nEnjoy the following: \n\nLarge Pizza\n4 Regular Soft Drinks\n$20 In Game Credits or 4 Attractions Tickets\n\nOnly $29.99! \nPrice plus tax.  Valid for 4 guests.
URL:https://raleigh.staging.adventurelanding.wddventure.com/event/friday-family-night/2024-06-07/
CATEGORIES:Special Event
ATTACH;FMTTYPE=image/jpeg:https://wp-cdn-adventurelanding.s3.amazonaws.com/stage/uploads/sites/3/2024/01/Featured-Image-Friday-Family-Night.jpg
END:VEVENT
BEGIN:VEVENT
DTSTART;TZID=America/New_York:20240531T180000
DTEND;TZID=America/New_York:20240531T220000
DTSTAMP:20260423T165158
CREATED:20240118T181752Z
LAST-MODIFIED:20240118T181752Z
UID:9692-1717178400-1717192800@raleigh.staging.adventurelanding.wddventure.com
SUMMARY:Friday Family Night
DESCRIPTION:Friday Family Night!Every Friday from 6pm – Close \nEnjoy the following: \n\nLarge Pizza\n4 Regular Soft Drinks\n$20 In Game Credits or 4 Attractions Tickets\n\nOnly $29.99! \nPrice plus tax.  Valid for 4 guests.
URL:https://raleigh.staging.adventurelanding.wddventure.com/event/friday-family-night/2024-05-31/
CATEGORIES:Special Event
ATTACH;FMTTYPE=image/jpeg:https://wp-cdn-adventurelanding.s3.amazonaws.com/stage/uploads/sites/3/2024/01/Featured-Image-Friday-Family-Night.jpg
END:VEVENT
BEGIN:VEVENT
DTSTART;VALUE=DATE:20240525
DTEND;VALUE=DATE:20240528
DTSTAMP:20260423T165158
CREATED:20230530T143503Z
LAST-MODIFIED:20240513T121332Z
UID:9530-1716595200-1716854399@raleigh.staging.adventurelanding.wddventure.com
SUMMARY:First Responder Appreciation Weekend
DESCRIPTION:May 25th – 27th \nAll First Responders Get a FREE Game of Mini Golf! \nThis includes all police\, fire\, and medical personnel. \nValid ID required to receive free offer.
URL:https://raleigh.staging.adventurelanding.wddventure.com/event/first-responder-appreciation-weekend/
LOCATION:Adventure Landing\, 3311 Capital Blvd.\, Raleigh\, NC\, 27604\, United States
CATEGORIES:Special Event
ATTACH;FMTTYPE=image/jpeg:https://wp-cdn-adventurelanding.s3.amazonaws.com/stage/uploads/sites/3/2023/05/Featured-First-Responder-Golf.jpg
GEO:35.825261;-78.587853
X-APPLE-STRUCTURED-LOCATION;VALUE=URI;X-ADDRESS=Adventure Landing 3311 Capital Blvd. Raleigh NC 27604 United States;X-APPLE-RADIUS=500;X-TITLE=3311 Capital Blvd.:geo:-78.587853,35.825261
END:VEVENT
BEGIN:VEVENT
DTSTART;TZID=America/New_York:20240524T180000
DTEND;TZID=America/New_York:20240524T220000
DTSTAMP:20260423T165158
CREATED:20240118T181752Z
LAST-MODIFIED:20240118T181752Z
UID:9691-1716573600-1716588000@raleigh.staging.adventurelanding.wddventure.com
SUMMARY:Friday Family Night
DESCRIPTION:Friday Family Night!Every Friday from 6pm – Close \nEnjoy the following: \n\nLarge Pizza\n4 Regular Soft Drinks\n$20 In Game Credits or 4 Attractions Tickets\n\nOnly $29.99! \nPrice plus tax.  Valid for 4 guests.
URL:https://raleigh.staging.adventurelanding.wddventure.com/event/friday-family-night/2024-05-24/
CATEGORIES:Special Event
ATTACH;FMTTYPE=image/jpeg:https://wp-cdn-adventurelanding.s3.amazonaws.com/stage/uploads/sites/3/2024/01/Featured-Image-Friday-Family-Night.jpg
END:VEVENT
BEGIN:VEVENT
DTSTART;VALUE=DATE:20240524
DTEND;VALUE=DATE:20240528
DTSTAMP:20260423T165158
CREATED:20170522T180441Z
LAST-MODIFIED:20240507T170146Z
UID:2107-1716508800-1716854399@raleigh.staging.adventurelanding.wddventure.com
SUMMARY:Memorial Day Weekend Specials
DESCRIPTION:3-Hour Unlimited Special!Enjoy 3 Hours of Unlimited: \n\nMini Golf\nGo-Karts\nLaser Tag\n\nOnly $34.99 per person!
URL:https://raleigh.staging.adventurelanding.wddventure.com/event/memorial-day-weekend-specials/
LOCATION:Adventure Landing\, 3311 Capital Blvd.\, Raleigh\, NC\, 27604\, United States
CATEGORIES:Special Event
ATTACH;FMTTYPE=image/jpeg:https://wp-cdn-adventurelanding.s3.amazonaws.com/stage/uploads/sites/3/2023/05/Featured-Image-Memorial-Specials-23.jpg
GEO:35.825261;-78.587853
X-APPLE-STRUCTURED-LOCATION;VALUE=URI;X-ADDRESS=Adventure Landing 3311 Capital Blvd. Raleigh NC 27604 United States;X-APPLE-RADIUS=500;X-TITLE=3311 Capital Blvd.:geo:-78.587853,35.825261
END:VEVENT
BEGIN:VEVENT
DTSTART;TZID=America/New_York:20240517T180000
DTEND;TZID=America/New_York:20240517T220000
DTSTAMP:20260423T165158
CREATED:20240118T181752Z
LAST-MODIFIED:20240118T181752Z
UID:9690-1715968800-1715983200@raleigh.staging.adventurelanding.wddventure.com
SUMMARY:Friday Family Night
DESCRIPTION:Friday Family Night!Every Friday from 6pm – Close \nEnjoy the following: \n\nLarge Pizza\n4 Regular Soft Drinks\n$20 In Game Credits or 4 Attractions Tickets\n\nOnly $29.99! \nPrice plus tax.  Valid for 4 guests.
URL:https://raleigh.staging.adventurelanding.wddventure.com/event/friday-family-night/2024-05-17/
CATEGORIES:Special Event
ATTACH;FMTTYPE=image/jpeg:https://wp-cdn-adventurelanding.s3.amazonaws.com/stage/uploads/sites/3/2024/01/Featured-Image-Friday-Family-Night.jpg
END:VEVENT
BEGIN:VEVENT
DTSTART;VALUE=DATE:20240512
DTEND;VALUE=DATE:20240513
DTSTAMP:20260423T165158
CREATED:20170502T175647Z
LAST-MODIFIED:20240411T163044Z
UID:1955-1715472000-1715558399@raleigh.staging.adventurelanding.wddventure.com
SUMMARY:Mother's Day Special
DESCRIPTION:Happy Mother’s Day! \nMoms Play Free Mini Golf with each paying player at regular price! \nBring the kids & play!
URL:https://raleigh.staging.adventurelanding.wddventure.com/event/mothers-day-special/
LOCATION:Adventure Landing\, 3311 Capital Blvd.\, Raleigh\, NC\, 27604\, United States
CATEGORIES:Special Event
ATTACH;FMTTYPE=image/jpeg:https://wp-cdn-adventurelanding.s3.amazonaws.com/stage/uploads/sites/3/2017/05/Featured-Image-Mothers-Day.jpg
GEO:35.825261;-78.587853
X-APPLE-STRUCTURED-LOCATION;VALUE=URI;X-ADDRESS=Adventure Landing 3311 Capital Blvd. Raleigh NC 27604 United States;X-APPLE-RADIUS=500;X-TITLE=3311 Capital Blvd.:geo:-78.587853,35.825261
END:VEVENT
BEGIN:VEVENT
DTSTART;TZID=America/New_York:20240510T180000
DTEND;TZID=America/New_York:20240510T220000
DTSTAMP:20260423T165158
CREATED:20240118T181752Z
LAST-MODIFIED:20240118T181752Z
UID:9689-1715364000-1715378400@raleigh.staging.adventurelanding.wddventure.com
SUMMARY:Friday Family Night
DESCRIPTION:Friday Family Night!Every Friday from 6pm – Close \nEnjoy the following: \n\nLarge Pizza\n4 Regular Soft Drinks\n$20 In Game Credits or 4 Attractions Tickets\n\nOnly $29.99! \nPrice plus tax.  Valid for 4 guests.
URL:https://raleigh.staging.adventurelanding.wddventure.com/event/friday-family-night/2024-05-10/
CATEGORIES:Special Event
ATTACH;FMTTYPE=image/jpeg:https://wp-cdn-adventurelanding.s3.amazonaws.com/stage/uploads/sites/3/2024/01/Featured-Image-Friday-Family-Night.jpg
END:VEVENT
BEGIN:VEVENT
DTSTART;TZID=America/New_York:20240503T180000
DTEND;TZID=America/New_York:20240503T220000
DTSTAMP:20260423T165158
CREATED:20240118T181752Z
LAST-MODIFIED:20240118T181752Z
UID:9688-1714759200-1714773600@raleigh.staging.adventurelanding.wddventure.com
SUMMARY:Friday Family Night
DESCRIPTION:Friday Family Night!Every Friday from 6pm – Close \nEnjoy the following: \n\nLarge Pizza\n4 Regular Soft Drinks\n$20 In Game Credits or 4 Attractions Tickets\n\nOnly $29.99! \nPrice plus tax.  Valid for 4 guests.
URL:https://raleigh.staging.adventurelanding.wddventure.com/event/friday-family-night/2024-05-03/
CATEGORIES:Special Event
ATTACH;FMTTYPE=image/jpeg:https://wp-cdn-adventurelanding.s3.amazonaws.com/stage/uploads/sites/3/2024/01/Featured-Image-Friday-Family-Night.jpg
END:VEVENT
BEGIN:VEVENT
DTSTART;TZID=America/New_York:20240426T180000
DTEND;TZID=America/New_York:20240426T220000
DTSTAMP:20260423T165158
CREATED:20240118T181752Z
LAST-MODIFIED:20240118T181752Z
UID:9687-1714154400-1714168800@raleigh.staging.adventurelanding.wddventure.com
SUMMARY:Friday Family Night
DESCRIPTION:Friday Family Night!Every Friday from 6pm – Close \nEnjoy the following: \n\nLarge Pizza\n4 Regular Soft Drinks\n$20 In Game Credits or 4 Attractions Tickets\n\nOnly $29.99! \nPrice plus tax.  Valid for 4 guests.
URL:https://raleigh.staging.adventurelanding.wddventure.com/event/friday-family-night/2024-04-26/
CATEGORIES:Special Event
ATTACH;FMTTYPE=image/jpeg:https://wp-cdn-adventurelanding.s3.amazonaws.com/stage/uploads/sites/3/2024/01/Featured-Image-Friday-Family-Night.jpg
END:VEVENT
BEGIN:VEVENT
DTSTART;VALUE=DATE:20240323
DTEND;VALUE=DATE:20240401
DTSTAMP:20260423T165158
CREATED:20180226T185539Z
LAST-MODIFIED:20240305T163904Z
UID:3986-1711152000-1711929599@raleigh.staging.adventurelanding.wddventure.com
SUMMARY:Spring Break Specials
DESCRIPTION:Unlimited Play Special!Enjoy 3 Hours of Unlimited: \n\nMini Golf\nGo-Karts\nLaser Tag\n\nOnly $34.99 per person!
URL:https://raleigh.staging.adventurelanding.wddventure.com/event/spring-break-specials-2/
LOCATION:Adventure Landing\, 3311 Capital Blvd.\, Raleigh\, NC\, 27604\, United States
CATEGORIES:Special Event
ATTACH;FMTTYPE=image/jpeg:https://wp-cdn-adventurelanding.s3.amazonaws.com/stage/uploads/sites/3/2019/02/Featured-Image-Spring-Break-Specials.jpg
GEO:35.825261;-78.587853
X-APPLE-STRUCTURED-LOCATION;VALUE=URI;X-ADDRESS=Adventure Landing 3311 Capital Blvd. Raleigh NC 27604 United States;X-APPLE-RADIUS=500;X-TITLE=3311 Capital Blvd.:geo:-78.587853,35.825261
END:VEVENT
BEGIN:VEVENT
DTSTART;VALUE=DATE:20240216
DTEND;VALUE=DATE:20240220
DTSTAMP:20260423T165158
CREATED:20180207T191013Z
LAST-MODIFIED:20240205T151106Z
UID:3861-1708041600-1708387199@raleigh.staging.adventurelanding.wddventure.com
SUMMARY:President's Day Weekend Specials
DESCRIPTION:Play Special!Enjoy 3 Hours of Unlimited: \n\nMini Golf\nGo-Karts\nLaser Tag\n\nOnly $34.99 Per Person!
URL:https://raleigh.staging.adventurelanding.wddventure.com/event/presidents-day-weekend-specials-2/
LOCATION:Adventure Landing\, 3311 Capital Blvd.\, Raleigh\, NC\, 27604\, United States
CATEGORIES:Special Event
ATTACH;FMTTYPE=image/jpeg:https://wp-cdn-adventurelanding.s3.amazonaws.com/stage/uploads/sites/3/2019/01/Featured-Image-Prez-Day.jpg
GEO:35.825261;-78.587853
X-APPLE-STRUCTURED-LOCATION;VALUE=URI;X-ADDRESS=Adventure Landing 3311 Capital Blvd. Raleigh NC 27604 United States;X-APPLE-RADIUS=500;X-TITLE=3311 Capital Blvd.:geo:-78.587853,35.825261
END:VEVENT
BEGIN:VEVENT
DTSTART;VALUE=DATE:20240214
DTEND;VALUE=DATE:20240215
DTSTAMP:20260423T165158
CREATED:20180207T182018Z
LAST-MODIFIED:20240214T142948Z
UID:3857-1707868800-1707955199@raleigh.staging.adventurelanding.wddventure.com
SUMMARY:Sweetheart Deal
DESCRIPTION:Game Card Sale!Online Only Offer! \nEnjoy $50 Worth of Game Cards for Only $25! \nGame Cards never expire and can be used by multiple guests on multiple visits. \nBuy Online
URL:https://raleigh.staging.adventurelanding.wddventure.com/event/sweetheart-deal-2/
LOCATION:Adventure Landing\, 3311 Capital Blvd.\, Raleigh\, NC\, 27604\, United States
CATEGORIES:Special Event
ATTACH;FMTTYPE=image/jpeg:https://wp-cdn-adventurelanding.s3.amazonaws.com/stage/uploads/sites/3/2019/01/Featured-Image-Sweetheart-Deal.jpg
GEO:35.825261;-78.587853
X-APPLE-STRUCTURED-LOCATION;VALUE=URI;X-ADDRESS=Adventure Landing 3311 Capital Blvd. Raleigh NC 27604 United States;X-APPLE-RADIUS=500;X-TITLE=3311 Capital Blvd.:geo:-78.587853,35.825261
END:VEVENT
BEGIN:VEVENT
DTSTART;TZID=America/New_York:20240119T180000
DTEND;TZID=America/New_York:20240119T220000
DTSTAMP:20260423T165158
CREATED:20240118T181752Z
LAST-MODIFIED:20240118T182043Z
UID:9670-1705687200-1705701600@raleigh.staging.adventurelanding.wddventure.com
SUMMARY:Friday Family Night
DESCRIPTION:Friday Family Night!Every Friday from 6pm – Close \nEnjoy the following: \n\nLarge Pizza\n4 Regular Soft Drinks\n$20 In Game Credits or 4 Attractions Tickets\n\nOnly $29.99! \nPrice plus tax.  Valid for 4 guests.
URL:https://raleigh.staging.adventurelanding.wddventure.com/event/friday-family-night/2024-01-19/
CATEGORIES:Special Event
ATTACH;FMTTYPE=image/jpeg:https://wp-cdn-adventurelanding.s3.amazonaws.com/stage/uploads/sites/3/2024/01/Featured-Image-Friday-Family-Night.jpg
END:VEVENT
BEGIN:VEVENT
DTSTART;VALUE=DATE:20240112
DTEND;VALUE=DATE:20240116
DTSTAMP:20260423T165158
CREATED:20171227T180624Z
LAST-MODIFIED:20240104T162530Z
UID:3648-1705017600-1705363199@raleigh.staging.adventurelanding.wddventure.com
SUMMARY:MLK Weekend Specials
DESCRIPTION:Play Special!Enjoy 3-Attractions Plus $5 Game Card! \nChoose From The Following Attractions: \n\nMini Golf Game\nGo-Kart Ride\nLaser Tag Session\n\nOnly $24.99 Per Person!
URL:https://raleigh.staging.adventurelanding.wddventure.com/event/mlk-weekend-specials/
LOCATION:Adventure Landing\, 3311 Capital Blvd.\, Raleigh\, NC\, 27604\, United States
CATEGORIES:Special Event
ATTACH;FMTTYPE=image/jpeg:https://wp-cdn-adventurelanding.s3.amazonaws.com/stage/uploads/sites/3/2019/01/Featured-Image-MLK-Specials.jpg
GEO:35.825261;-78.587853
X-APPLE-STRUCTURED-LOCATION;VALUE=URI;X-ADDRESS=Adventure Landing 3311 Capital Blvd. Raleigh NC 27604 United States;X-APPLE-RADIUS=500;X-TITLE=3311 Capital Blvd.:geo:-78.587853,35.825261
END:VEVENT
BEGIN:VEVENT
DTSTART;VALUE=DATE:20230626
DTEND;VALUE=DATE:20230627
DTSTAMP:20260423T165158
CREATED:20230530T151345Z
LAST-MODIFIED:20230530T151517Z
UID:9535-1687737600-1687823999@raleigh.staging.adventurelanding.wddventure.com
SUMMARY:Grandparent's Day
DESCRIPTION:June 26th \nAll Grandparent’s Receive a FREE Round of Mini Golf with each paying player at regular price.
URL:https://raleigh.staging.adventurelanding.wddventure.com/event/grandparents-day/
CATEGORIES:Special Event
ATTACH;FMTTYPE=image/jpeg:https://wp-cdn-adventurelanding.s3.amazonaws.com/stage/uploads/sites/3/2023/05/Featured-Image-Grandparents-Day.jpg
END:VEVENT
BEGIN:VEVENT
DTSTART;VALUE=DATE:20230317
DTEND;VALUE=DATE:20230318
DTSTAMP:20260423T165158
CREATED:20170313T175817Z
LAST-MODIFIED:20230316T145825Z
UID:5846-1679011200-1679097599@raleigh.staging.adventurelanding.wddventure.com
SUMMARY:St. Patrick's Day Pot of Tokens Sale
DESCRIPTION:GAME CARD ONLINE ONLY SALE!\nBuy a $25 Game Card\, Get a $25 Game Card for FREE! \nGame Cards never expire and can be used by multiple guests on multiple visits. \nBuy Online
URL:https://raleigh.staging.adventurelanding.wddventure.com/event/st-patricks-day-pot-tokens-sale/
LOCATION:Adventure Landing\, 3311 Capital Blvd.\, Raleigh\, NC\, 27604\, United States
CATEGORIES:Special Event
ATTACH;FMTTYPE=image/jpeg:https://wp-cdn-adventurelanding.s3.amazonaws.com/stage/uploads/sites/3/2019/03/Featured-Image-St-Patricks-Day.jpg
GEO:35.825261;-78.587853
X-APPLE-STRUCTURED-LOCATION;VALUE=URI;X-ADDRESS=Adventure Landing 3311 Capital Blvd. Raleigh NC 27604 United States;X-APPLE-RADIUS=500;X-TITLE=3311 Capital Blvd.:geo:-78.587853,35.825261
END:VEVENT
BEGIN:VEVENT
DTSTART;TZID=America/New_York:20230107T110000
DTEND;TZID=America/New_York:20230107T130000
DTSTAMP:20260423T165158
CREATED:20221208T163439Z
LAST-MODIFIED:20221208T163442Z
UID:9469-1673089200-1673096400@raleigh.staging.adventurelanding.wddventure.com
SUMMARY:Meet & Greet With Paw Patrol
DESCRIPTION:Free Meet & Greet With Paw Patrol!January 7th\n11am-1pm \nJoin Us and Meet Chase & Marshall From Paw Patrol!  Get Your Picture Taken\, Too!
URL:https://raleigh.staging.adventurelanding.wddventure.com/event/meet-greet-with-paw-patrol/
LOCATION:Adventure Landing\, 3311 Capital Blvd.\, Raleigh\, NC\, 27604\, United States
CATEGORIES:Special Event
ATTACH;FMTTYPE=image/jpeg:https://wp-cdn-adventurelanding.s3.amazonaws.com/stage/uploads/sites/3/2022/12/Featured-Image-Marshall-Paw-Patrol-Meet-2022.jpg
GEO:35.825261;-78.587853
X-APPLE-STRUCTURED-LOCATION;VALUE=URI;X-ADDRESS=Adventure Landing 3311 Capital Blvd. Raleigh NC 27604 United States;X-APPLE-RADIUS=500;X-TITLE=3311 Capital Blvd.:geo:-78.587853,35.825261
END:VEVENT
BEGIN:VEVENT
DTSTART;VALUE=DATE:20200201
DTEND;VALUE=DATE:20200203
DTSTAMP:20260423T165158
CREATED:20180119T192235Z
LAST-MODIFIED:20200201T021003Z
UID:3764-1580515200-1580687999@raleigh.staging.adventurelanding.wddventure.com
SUMMARY:Groundhog Day Sale
DESCRIPTION:Save 50%!Online Only Sale. \nBuy 3-Attraction Quest Passes for Only $10! \nChoose from: \n\n18 Holes of Mini Golf\nGo-Kart Ride\nLaser Tag Session\n\nAll attractions must be used by same guest in single visit.  Passes never expire! \nBuy Online
URL:https://raleigh.staging.adventurelanding.wddventure.com/event/groundhog-day-sale/
LOCATION:Adventure Landing\, 3311 Capital Blvd.\, Raleigh\, NC\, 27604\, United States
CATEGORIES:Special Event
ATTACH;FMTTYPE=image/jpeg:https://wp-cdn-adventurelanding.s3.amazonaws.com/stage/uploads/sites/3/2019/01/Featured-Image-Groundhog-Day.jpg
GEO:35.825261;-78.587853
X-APPLE-STRUCTURED-LOCATION;VALUE=URI;X-ADDRESS=Adventure Landing 3311 Capital Blvd. Raleigh NC 27604 United States;X-APPLE-RADIUS=500;X-TITLE=3311 Capital Blvd.:geo:-78.587853,35.825261
END:VEVENT
BEGIN:VEVENT
DTSTART;VALUE=DATE:20200124
DTEND;VALUE=DATE:20200125
DTSTAMP:20260423T165158
CREATED:20180102T182618Z
LAST-MODIFIED:20240109T141326Z
UID:3685-1579824000-1579910399@raleigh.staging.adventurelanding.wddventure.com
SUMMARY:Winter Token Blowout
DESCRIPTION:Save Up To $20!Online Only Sale! \n$50 Worth of Arcade Tokens – That’s 300 Tokens! \n\n7am-11am:  Only $30\n11am-Close:  Only $40\n\nTokens never expire and can be used by multiple guests on multiple visits! \nBuy Online
URL:https://raleigh.staging.adventurelanding.wddventure.com/event/winter-token-blowout/
LOCATION:Adventure Landing\, 3311 Capital Blvd.\, Raleigh\, NC\, 27604\, United States
CATEGORIES:Special Event
ATTACH;FMTTYPE=image/jpeg:https://wp-cdn-adventurelanding.s3.amazonaws.com/stage/uploads/sites/3/2019/01/Featured-Image-Winter-Token-Blowout.jpg
GEO:35.825261;-78.587853
X-APPLE-STRUCTURED-LOCATION;VALUE=URI;X-ADDRESS=Adventure Landing 3311 Capital Blvd. Raleigh NC 27604 United States;X-APPLE-RADIUS=500;X-TITLE=3311 Capital Blvd.:geo:-78.587853,35.825261
END:VEVENT
BEGIN:VEVENT
DTSTART;VALUE=DATE:20200101
DTEND;VALUE=DATE:20200102
DTSTAMP:20260423T165158
CREATED:20171219T182519Z
LAST-MODIFIED:20200101T032814Z
UID:3584-1577836800-1577923199@raleigh.staging.adventurelanding.wddventure.com
SUMMARY:Mini Golf Annual Season Pass Sale
DESCRIPTION:Save Up To $38!Online Only Sale – January 1st! \nMini Golf Season Pass Sale: \n\n7am – 11am:  $21.99\n11am – CLOSE:  $24.99\n\nRegular Price:  $59.99 \nEnjoy Unlimited Mini Golf for One Year from Date of Purchase!   \nValid at all locations. \nBuy Online
URL:https://raleigh.staging.adventurelanding.wddventure.com/event/mini-golf-annual-season-pass-sale/
LOCATION:Adventure Landing\, 3311 Capital Blvd.\, Raleigh\, NC\, 27604\, United States
CATEGORIES:Special Event
ATTACH;FMTTYPE=image/jpeg:https://wp-cdn-adventurelanding.s3.amazonaws.com/stage/uploads/sites/3/2018/12/Featured-Image-Mini-Golf-Season-Pass-Sale.jpg
GEO:35.825261;-78.587853
X-APPLE-STRUCTURED-LOCATION;VALUE=URI;X-ADDRESS=Adventure Landing 3311 Capital Blvd. Raleigh NC 27604 United States;X-APPLE-RADIUS=500;X-TITLE=3311 Capital Blvd.:geo:-78.587853,35.825261
END:VEVENT
END:VCALENDAR